BEGIN:VCALENDAR
VERSION:2.0
PRODID:-//ChamberMaster//Event Calendar 2.0//EN
METHOD:PUBLISH
X-PUBLISHED-TTL:P1H
REFRESH-INTERVAL:P1H
CALSCALE:GREGORIAN
BEGIN:VTIMEZONE
TZID:America/Phoenix
BEGIN:DAYLIGHT
DTSTART:20070311T020000
TZOFFSETFROM:-0700
TZOFFSETTO:-0700
TZNAME:(UTC-07:00) Arizona
END:DAYLIGHT
BEGIN:STANDARD
DTSTART:20071104T020000
TZOFFSETFROM:-0700
TZOFFSETTO:-0700
TZNAME:(UTC-07:00) Arizona
END:STANDARD
END:VTIMEZONE
BEGIN:VEVENT
DTSTART;TZID=America/Phoenix:20260227T073000
DTEND;TZID=America/Phoenix:20260227T100000
X-MICROSOFT-CDO-ALLDAYEVENT:FALSE
SUMMARY:2026 Regional Business and Education Summit
DESCRIPTION:2026 Regional Business & Education Summit   "The Workforce Imperative: Challenges and Opportunities Across Sectors"Join policymakers\, educators\, and industry leaders for a dynamic\, solutions-focused discussion on Arizona's workforce. Featuring Arizona Town Hall and The Waters Center for Systems Thinking\, this year's summit will explore pressing workforce challenges and collaborative\, systems-based strategies to strengthen the state's talent pipeline. Grab-and-go refreshments will be provided. Register Here: https://business.gilbertaz.com/events/details/2026-business-education-summit-foundation-6943
X-ALT-DESC;FMTTYPE=text/html:<!DOCTYPE html><html><head><title></title></head><body aria-disabled="false"><p data-end="187" data-start="66"><strong data-end="185" data-start="66" fr-original-style="" style="font-weight: 700\;">2026 Regional Business &amp\; Education Summit &ndash\; &ldquo\;The Workforce Imperative: Challenges and Opportunities Across Sectors&rdquo\;</strong></p><p data-end="581" data-start="189">Join policymakers\, educators\, and industry leaders for a dynamic\, solutions-focused discussion on Arizona&rsquo\;s workforce. Featuring <strong data-end="339" data-start="318" fr-original-style="" style="font-weight: 700\;">Arizona Town Hall</strong> and <strong data-end="386" data-start="344" fr-original-style="" style="font-weight: 700\;">The Waters Center for Systems Thinking</strong>\, this year&rsquo\;s summit will explore pressing workforce challenges and collaborative\, systems-based strategies to strengthen the state&rsquo\;s talent pipeline. Grab-and-go refreshments will be provided.</p><p data-end="581" data-start="189">&nbsp\;</p><p data-end="581" data-start="189">Register Here:&nbsp\;<a fr-original-style="" href="https://business.gilbertaz.com/events/details/2026-business-education-summit-foundation-6943" style="user-select: auto\;">https://business.gilbertaz.com/events/details/2026-business-education-summit-foundation-6943</a></p></body></html>
LOCATION:2626 E. Pecos Rd Chandler AZ 85225
UID:e.2184.1404085
SEQUENCE:3
DTSTAMP:20260421T161634Z
URL:https://business.mesachamber.org/chamber-member-ribbon-cuttings/Details/2026-regional-business-and-education-summit-1659306?sourceTypeId=Hub
END:VEVENT
END:VCALENDAR
