BEGIN:VCALENDAR
VERSION:2.0
PRODID:-//ChamberMaster//Event Calendar 2.0//EN
METHOD:PUBLISH
X-PUBLISHED-TTL:P1H
REFRESH-INTERVAL:P1H
CALSCALE:GREGORIAN
BEGIN:VTIMEZONE
TZID:America/Phoenix
BEGIN:DAYLIGHT
DTSTART:20070311T020000
TZOFFSETFROM:-0700
TZOFFSETTO:-0700
TZNAME:(UTC-07:00) Arizona
END:DAYLIGHT
BEGIN:STANDARD
DTSTART:20071104T020000
TZOFFSETFROM:-0700
TZOFFSETTO:-0700
TZNAME:(UTC-07:00) Arizona
END:STANDARD
END:VTIMEZONE
BEGIN:VEVENT
DTSTART;TZID=America/Phoenix:20251028T173000
DTEND;TZID=America/Phoenix:20251028T190000
X-MICROSOFT-CDO-ALLDAYEVENT:FALSE
SUMMARY:Noah Webster Schools-Boo Fest!
DESCRIPTION:Game booths and trick or treating for all!
X-ALT-DESC;FMTTYPE=text/html:<!DOCTYPE html><html><head><title></title></head><body aria-disabled="false"><p>Game booths and trick or treating for all!</p></body></html>
LOCATION:7301 E. Baseline Road Mesa AZ 85209
UID:e.2184.1300134
SEQUENCE:3
DTSTAMP:20260421T033210Z
URL:https://business.mesachamber.org/chamber-member-ribbon-cuttings/Details/noah-webster-schools-boo-fest-1521653?sourceTypeId=Hub
END:VEVENT
END:VCALENDAR
