BEGIN:VCALENDAR
VERSION:2.0
PRODID:-//ChamberMaster//Event Calendar 2.0//EN
METHOD:PUBLISH
X-PUBLISHED-TTL:P1H
REFRESH-INTERVAL:P1H
CALSCALE:GREGORIAN
BEGIN:VTIMEZONE
TZID:America/Phoenix
BEGIN:DAYLIGHT
DTSTART:20070311T020000
TZOFFSETFROM:-0700
TZOFFSETTO:-0700
TZNAME:(UTC-07:00) Arizona
END:DAYLIGHT
BEGIN:STANDARD
DTSTART:20071104T020000
TZOFFSETFROM:-0700
TZOFFSETTO:-0700
TZNAME:(UTC-07:00) Arizona
END:STANDARD
END:VTIMEZONE
BEGIN:VEVENT
DTSTART;TZID=America/Phoenix:20260611T110000
DTEND;TZID=America/Phoenix:20260611T130000
X-MICROSOFT-CDO-ALLDAYEVENT:FALSE
SUMMARY:Lunch Mob: RA Sushi Mesa
DESCRIPTION:About Mesa Chamber Lunch Mobs:  A Lunch Mob is an opportunity to rally the community to a great new or existing lunch spot. Using the Lunch Mob as an opportunity to communicate your brand across all of the members of the Chamber stimulates endless opportunities for new business beyond the day of the Lunch Mob itself.  About RA Sushi Mesa:  Everyone has an adventurous side and RA Sushi is the place to explore and find yours. At RA\, they're all about lively music\, an energetic atmosphere\, inventive cocktails and out-of-this-world sushi. You know when you're in the "RA" because there's no other place like it. Order up the best sushi in town and prepare to be blown away by their signature rolls and amazing Japanese cuisine. Whether you're a sushi aficionado or just looking to explore new flavors\, RA is your go-to destination. So bring your friends\, or make new ones. Either way\, you're in for a great time.
X-ALT-DESC;FMTTYPE=text/html:<!DOCTYPE html><html><head><title></title></head><body aria-disabled="false"><p><strong fr-original-style="" style="font-weight: 700\;">About Mesa Chamber Lunch Mobs:</strong> &nbsp\;</p><p>A Lunch Mob is an opportunity to rally the community to a great new or existing lunch spot. Using the Lunch Mob as an opportunity to communicate your brand across all of the members of the Chamber stimulates endless opportunities for new business beyond the day of the Lunch Mob itself. &nbsp\;</p><p><strong fr-original-style="" style="font-weight: 700\;">About RA Sushi Mesa: &nbsp\;</strong></p><p>Everyone has an adventurous side and RA Sushi is the place to explore and find yours. At RA\, they&rsquo\;re all about lively music\, an energetic atmosphere\, inventive cocktails and out-of-this-world sushi. You know when you&rsquo\;re in the &ldquo\;RA&rdquo\; because there&rsquo\;s no other place like it. Order up the best sushi in town and prepare to be blown away by their signature rolls and amazing Japanese cuisine. Whether you&rsquo\;re a sushi aficionado or just looking to explore new flavors\, RA is your go-to destination. So bring your friends\, or make new ones. Either way\, you&rsquo\;re in for a great time.</p></body></html>
LOCATION:1652 S. Val Vista Dr. # 101 Mesa AZ 85204
UID:e.2184.1311915
SEQUENCE:3
DTSTAMP:20260422T113340Z
URL:https://business.mesachamber.org/chamber-member-ribbon-cuttings/Details/lunch-mob-ra-sushi-mesa-1538834?sourceTypeId=Hub
END:VEVENT
END:VCALENDAR
