BEGIN:VCALENDAR
VERSION:2.0
PRODID:-//ChamberMaster//Event Calendar 2.0//EN
METHOD:PUBLISH
X-PUBLISHED-TTL:P1H
REFRESH-INTERVAL:P1H
CALSCALE:GREGORIAN
BEGIN:VTIMEZONE
TZID:America/Phoenix
BEGIN:DAYLIGHT
DTSTART:20070311T020000
TZOFFSETFROM:-0700
TZOFFSETTO:-0700
TZNAME:(UTC-07:00) Arizona
END:DAYLIGHT
BEGIN:STANDARD
DTSTART:20071104T020000
TZOFFSETFROM:-0700
TZOFFSETTO:-0700
TZNAME:(UTC-07:00) Arizona
END:STANDARD
END:VTIMEZONE
BEGIN:VEVENT
DTSTART;TZID=America/Phoenix:20220219T080000
DTEND;TZID=America/Phoenix:20220219T120000
X-MICROSOFT-CDO-ALLDAYEVENT:FALSE
SUMMARY:Ribbon Cutting Celebrating UEI College-Mesa Presented by the Mesa Chamber of Commerce
DESCRIPTION:Join us for this great opportunity to meet local business and celebrate the success of UEI College-Mesa. The Community is invited to attend and celebrate this great day. Pro Tip:\nWant to be remembered? Treat it like a Business Shower! Bring a gift for the business and show them they are welcome in the community. About UEI College-Mesa:At UEI\, you can get career training and skills that will help you create a future you can be proud of. UEI believes that every student should have the opportunity to have a better future and will work with you to help make that happen. Their supportive faculty and staff are committed to helping you reaching your goals\, even when challenges arise. From help with finding the right career path to finding a potential employer after you graduate\, UEI is committed to being your partner in success. Together\, they can change your life.
X-ALT-DESC;FMTTYPE=text/html:<!DOCTYPE html><html><head><title></title></head><body aria-disabled="false"><p>Join us for this great opportunity to meet local business and celebrate the success of UEI College-Mesa. The Community is invited to attend and celebrate this great day.&nbsp\;</p><p><strong fr-original-style="" style="font-weight: 700\;">Pro Tip:</strong><br>Want to be remembered? Treat it like a Business Shower! Bring a gift for the business and show them they are welcome in the community.&nbsp\;</p><p><strong fr-original-style="" style="font-weight: 700\;">About UEI College-Mesa:</strong></p><p>At UEI\, you can get career training and skills that will help you create a future you can be proud of. UEI believes that every student should have the opportunity to have a better future and will work with you to help make that happen. Their supportive faculty and staff are committed to helping you reaching your goals\, even when challenges arise. From help with finding the right career path to finding a potential employer after you graduate\, UEI is committed to being your partner in success. Together\, they can change your life.</p></body></html>
LOCATION:1420 W. Southern Ave Mesa AZ 85202
UID:e.2184.536660
SEQUENCE:3
DTSTAMP:20260422T164339Z
URL:https://business.mesachamber.org/chamber-member-ribbon-cuttings/Details/ribbon-cutting-celebrating-uei-college-mesa-presented-by-the-mesa-chamber-of-commerce-550707?sourceTypeId=Hub
END:VEVENT
END:VCALENDAR
