BEGIN:VCALENDAR
VERSION:2.0
PRODID:-//ChamberMaster//Event Calendar 2.0//EN
METHOD:PUBLISH
X-PUBLISHED-TTL:P1H
REFRESH-INTERVAL:P1H
CALSCALE:GREGORIAN
BEGIN:VTIMEZONE
TZID:America/Phoenix
BEGIN:DAYLIGHT
DTSTART:20070311T020000
TZOFFSETFROM:-0700
TZOFFSETTO:-0700
TZNAME:(UTC-07:00) Arizona
END:DAYLIGHT
BEGIN:STANDARD
DTSTART:20071104T020000
TZOFFSETFROM:-0700
TZOFFSETTO:-0700
TZNAME:(UTC-07:00) Arizona
END:STANDARD
END:VTIMEZONE
BEGIN:VEVENT
DTSTART;TZID=America/Phoenix:20251010T100000
DTEND;TZID=America/Phoenix:20251010T110000
X-MICROSOFT-CDO-ALLDAYEVENT:FALSE
SUMMARY:Ribbon Cutting: Rockito Bandito's Ice Cream
DESCRIPTION:Join us for this great opportunity to meet new local businesses and celebrate the success of Rockito Bandito's Ice Cream. The community is invited to attend and celebrate this great day! About Rockito Bandito's Ice Cream:  Apparently holiday gifts can turn into much much more.  Their daughter asked for an ice cream maker in 2020.  It seemed like a good idea...a little bonding time\, some learning\, some creativity\, something to share with friends\, and a whole lot of ice cream for them!  After a little trial and error\, they started to consistently make ice cream that was better (our 100% biased opinion) than any they've ever had.  Fast forward to early 2024 and combine a little foolishness\, a lot of money\, delays\, and a willingness to take a shot at something they believe in and want to share.  The end result\, Rockito Bandito's Ice Cream opened on August 29\, 2025.  It's named aptly after their two furry kids because it rhymed\, it's unique\, and why not?   Pro Tip:   Be the hero! Bring a welcoming gift for the Ribbon Cutting Business. Show them that you are paying attention to them and add your card for a follow up thanks. And the start of a new business relationshipAbout Ribbon Cuttings:   Attending a Ribbon Cutting is best for anyone that is looking to engage the business community. Anyone who's business depends on meeting people should definitely be at every Ribbon Cutting. Are they close to your business? Even better!
X-ALT-DESC;FMTTYPE=text/html:<!DOCTYPE html><html><head><title></title></head><body aria-disabled="false"><p>Join us for this great opportunity to meet new local businesses and celebrate the success of Rockito Bandito&#39\;s Ice Cream. The community is invited to attend and celebrate this great day!&nbsp\;</p><p><strong fr-original-style="" style="font-weight: 700\;">About Rockito Bandito&#39\;s Ice Cream:</strong> &nbsp\;</p><p>Apparently holiday gifts can turn into much much more. &nbsp\;Their daughter asked for an ice cream maker in 2020. &nbsp\;It seemed like a good idea...a little bonding time\, some learning\, some creativity\, something to share with friends\, and a whole lot of ice cream for them! &nbsp\;After a little trial and error\, they started to consistently make ice cream that was better (our 100% biased opinion) than any they&#39\;ve ever had. &nbsp\;Fast forward to early 2024 and combine a little foolishness\, a lot of money\, delays\, and a willingness to take a shot at something they believe in and want to share. &nbsp\;The end result\, Rockito Bandito&#39\;s Ice Cream opened on August 29\, 2025. &nbsp\;It&#39\;s named aptly after their two furry kids because it rhymed\, it&#39\;s unique\, and why not? &nbsp\;&nbsp\;</p><p><strong fr-original-style="" style="font-weight: 700\;">Pro Tip:&nbsp\;</strong> &nbsp\;</p><p>Be the hero! Bring a welcoming gift for the Ribbon Cutting Business. Show them that you are paying attention to them and add your card for a follow up thanks. And the start of a new business relationship</p><p><strong fr-original-style="" style="font-weight: 700\;">About Ribbon Cuttings:</strong>&nbsp\; &nbsp\;</p><p>Attending a Ribbon Cutting is best for anyone that is looking to engage the business community. Anyone who&#39\;s business depends on meeting people should definitely be at every Ribbon Cutting. Are they close to your business? Even better!</p></body></html>
LOCATION:1705 S. Greenfield Rd.\; #104 Mesa AZ 85206
UID:e.2184.1276724
SEQUENCE:3
DTSTAMP:20260421T162406Z
URL:https://business.mesachamber.org/chamber-member-ribbon-cuttings/Details/ribbon-cutting-rockito-bandito-s-ice-cream-1495003?sourceTypeId=Hub
END:VEVENT
END:VCALENDAR
